BEGIN:VCALENDAR
VERSION:2.0
PRODID:-//North Devon Deaf Children&#039;s Society - ECPv6.15.20//NONSGML v1.0//EN
CALSCALE:GREGORIAN
METHOD:PUBLISH
X-WR-CALNAME:North Devon Deaf Children&#039;s Society
X-ORIGINAL-URL:https://northdevondeafchildren.co.uk
X-WR-CALDESC:Events for North Devon Deaf Children&#039;s Society
REFRESH-INTERVAL;VALUE=DURATION:PT1H
X-Robots-Tag:noindex
X-PUBLISHED-TTL:PT1H
BEGIN:VTIMEZONE
TZID:Europe/London
BEGIN:DAYLIGHT
TZOFFSETFROM:+0000
TZOFFSETTO:+0100
TZNAME:BST
DTSTART:20250330T010000
END:DAYLIGHT
BEGIN:STANDARD
TZOFFSETFROM:+0100
TZOFFSETTO:+0000
TZNAME:GMT
DTSTART:20251026T010000
END:STANDARD
BEGIN:DAYLIGHT
TZOFFSETFROM:+0000
TZOFFSETTO:+0100
TZNAME:BST
DTSTART:20260329T010000
END:DAYLIGHT
BEGIN:STANDARD
TZOFFSETFROM:+0100
TZOFFSETTO:+0000
TZNAME:GMT
DTSTART:20261025T010000
END:STANDARD
BEGIN:DAYLIGHT
TZOFFSETFROM:+0000
TZOFFSETTO:+0100
TZNAME:BST
DTSTART:20270328T010000
END:DAYLIGHT
BEGIN:STANDARD
TZOFFSETFROM:+0100
TZOFFSETTO:+0000
TZNAME:GMT
DTSTART:20271031T010000
END:STANDARD
END:VTIMEZONE
BEGIN:VEVENT
DTSTART;TZID=Europe/London:20260106T080000
DTEND;TZID=Europe/London:20261231T200000
DTSTAMP:20260425T202850
CREATED:20260114T204951Z
LAST-MODIFIED:20260115T101323Z
UID:5870-1767686400-1798747200@northdevondeafchildren.co.uk
SUMMARY:Out of Area Annual Membership
DESCRIPTION:As agreed at the NDDCS AGM and outlined in the letter below the area which the charity covers is North Devon & Torridge.  This means those deaf children and their families living in this area will not require a membership. \nIf you don’t know you can search your postcode here: https://www.gov.uk/find-local-council \nFamilies in the wider Devon area are welcome to purchase an optional membership to benefit from the charities subsidised events.  Anyone out with Devon or those not wishing to purchase the membership will still be entitled to join the NDDCS events & days out at standard admission costs. \nMemberships will allow subsidised events for deaf children\, siblings (siblings up to 17yrs 11m) plus 2 adults. \nOpen Letter \nNDDCS_Cancellation Policy
URL:https://northdevondeafchildren.co.uk/event/annual-membership/
ATTACH;FMTTYPE=image/jpeg:https://northdevondeafchildren.co.uk/wp-content/uploads/2026/01/superior-supreme-vip-membership-top-notched_low-scaled.jpg
END:VEVENT
BEGIN:VEVENT
DTSTART;TZID=Europe/London:20260503T100000
DTEND;TZID=Europe/London:20260503T170000
DTSTAMP:20260425T202850
CREATED:20260418T220529Z
LAST-MODIFIED:20260418T221041Z
UID:6389-1777802400-1777827600@northdevondeafchildren.co.uk
SUMMARY:Wildwood - Sunday 3rd May
DESCRIPTION:Wildwood – Sunday 3rd May 2026 \nMeet 10am\nTickets are available for deaf children\, siblings & up to 2 adults. \nSpread across 40 acres of gardens and woodland in the heart of Devon\, Wildwood is home to a fascinating array of British wildlife. From brown bears and wolves to arctic foxes and red squirrels\, our park offers a unique opportunity to explore and discover. \nWildwood is the ideal destination for a family adventure. Our park features outdoor and indoor play areas where children can enjoy endless fun\, while parents relax amidst nature’s splendour.
URL:https://northdevondeafchildren.co.uk/event/wildwood-sunday-3rd-may/
LOCATION:Wildwood\, Escot Park\, Ottery St Mary\, Devon\, EX11 1LU\, United Kingdom
ATTACH;FMTTYPE=image/png:https://northdevondeafchildren.co.uk/wp-content/uploads/2026/01/Screenshot-2026-01-16-232248.png
END:VEVENT
BEGIN:VEVENT
DTSTART;TZID=Europe/London:20260607T123000
DTEND;TZID=Europe/London:20260607T193000
DTSTAMP:20260425T202850
CREATED:20260131T211412Z
LAST-MODIFIED:20260418T213645Z
UID:6028-1780835400-1780860600@northdevondeafchildren.co.uk
SUMMARY:20:20 Cricket Sunday 7th June 2026
DESCRIPTION:A possible opportunity to go and watch Somerset V Warwickshire Bears Double Header 20:20 match!\nSunday 7th June 2026\nThe Ladies match starts at 11:30am & men’s match will start approximately 3:30pm. \nTickets will cover either or both matches if people wish. \nAs tickets are currently not on sale and are likely to sell quickly we will provide a full refund if we are unable to secure tickets.  For this reason we have a short (1 week window) to offer these tickets to those living in North Devon & Torridge or anyone who has bought the annual membership. \n  \n 
URL:https://northdevondeafchildren.co.uk/event/2020-cricket-sunday-7th-june-2026/
LOCATION:Somerset County Cricket Ground\, The Cooper Associates County Ground\, Taunton\, TA1 1JT
ATTACH;FMTTYPE=image/png:https://northdevondeafchildren.co.uk/wp-content/uploads/2026/01/Screenshot-2026-01-31-203445.png
END:VEVENT
BEGIN:VEVENT
DTSTART;TZID=Europe/London:20260627T140000
DTEND;TZID=Europe/London:20261104T160000
DTSTAMP:20260425T202850
CREATED:20260217T221721Z
LAST-MODIFIED:20260421T101715Z
UID:6173-1782568800-1793808000@northdevondeafchildren.co.uk
SUMMARY:Gruffalo BSL Show\, Exeter - 27th June 2pm
DESCRIPTION:Gruffalo – BSL Interpreted\nExeter Northcott\nSat 27th June 2pm\n\nA mouse took a stroll through the deep dark wood… \nJoin Mouse on a daring adventure through the deep\, dark wood in Tall Stories’ magical\, musical adaptation of the classic picture book by Julia Donaldson and Axel Scheffler – celebrating 25 years on stage in 2026. \nSearching for hazelnuts\, Mouse meets the cunning Fox\, the eccentric old Owl and the high-spirited Snake. Will the story of the terrifying Gruffalo save Mouse from ending up as dinner for these hungry woodland creatures? After all\, there’s no such thing as a Gruffalo – is there? \n\nTickets are subsidised for deaf children\, siblings & max 2 adults for members. If you live out of area and would like to join us email hellonddcs@gmail.com to organise ticket prices.
URL:https://northdevondeafchildren.co.uk/event/gruffalo-bsl-show-exeter-27th-june-2pm/
LOCATION:northcott theatre\, Exeter\, Stocker Road\, Exeter\, Devon\, EX4 4QB\, United Kingdom
ATTACH;FMTTYPE=image/png:https://northdevondeafchildren.co.uk/wp-content/uploads/2026/02/Screenshot-2026-02-17-221154.png
END:VEVENT
BEGIN:VEVENT
DTSTART;TZID=Europe/London:20260628T150000
DTEND;TZID=Europe/London:20260628T170000
DTSTAMP:20260425T202850
CREATED:20260418T222420Z
LAST-MODIFIED:20260418T222420Z
UID:6396-1782658800-1782666000@northdevondeafchildren.co.uk
SUMMARY:Exmoor Zoo Hall Visit - Sunday 28th June 3-5pm
DESCRIPTION:South Molton Methodist Church\nSunday 28th June 2026 3-5pm\nExmoor Zoo are visiting!!  we will also have crafts and activities for children Plus refreshments. \nThere will be a raffle on this day so please come with change for yourselves & family members who wish to buy a ticket.\nWill will also be happy to accept additional raffle prizes. \nThis event is free but please book tickets to allow us to gauge numbers for refreshments etc.
URL:https://northdevondeafchildren.co.uk/event/exmoor-zoo-hall-visit-sunday-28th-june-3-5pm/
LOCATION:Exmoor Zoo\, South Stowford\, Bratton Fleming\, Barnstaple\, EX31 4SG
ATTACH;FMTTYPE=image/png:https://northdevondeafchildren.co.uk/wp-content/uploads/2026/04/Screenshot-2026-04-18-232349.png
END:VEVENT
BEGIN:VEVENT
DTSTART;TZID=Europe/London:20260711T120000
DTEND;TZID=Europe/London:20260711T160000
DTSTAMP:20260425T202850
CREATED:20260327T215959Z
LAST-MODIFIED:20260327T215959Z
UID:6353-1783771200-1783785600@northdevondeafchildren.co.uk
SUMMARY:Harry Potter Studios Saturday 11th July
DESCRIPTION:Harry Potter Studio Tour\nSaturday 11th July 2026\, 12pm meet\n\nExperience a day of filmmaking magic at Warner Bros. Studio Tour London – The Making of Harry Potter.\nStep on to authentic sets\, discover the magic behind spellbinding special effects and explore the behind-the-scenes secrets of the Harry Potter film series. Discover the iconic Hogwarts Great Hall and explore the Forbidden Forest\, board the original Hogwarts Express at Platform 9 ¾ and step foot into Gringotts Wizarding Bank\, all before wandering down Diagon Alley. Located at the Studios where all eight films were produced\, the Studio Tour showcases the British talent and artistry that went into the making of the wizarding world\, relive the magic through the eyes of the filmmakers who brought the films to life. \nEnter together and explore at your own pace. Please read the website to get a full understanding of the day & what to expect. \nCarer’s ticket available with documentation.  Please buy the carer’s ticket and once proof is provided on the day your carer ticket will be refunded within 1 week of the event. \nPlease note this event is only available through the charity for a maximum of 2 adults\, deaf children & siblings. \n 
URL:https://northdevondeafchildren.co.uk/event/harry-potter-studios-saturday-11th-july/
LOCATION:Harry Potter Studios\, Warner Brothers Studios\, Watford\, WD25 7LR
ATTACH;FMTTYPE=image/png:https://northdevondeafchildren.co.uk/wp-content/uploads/2026/03/Screenshot-2026-03-27-212632.png
END:VEVENT
END:VCALENDAR